BEGIN:VCALENDAR
PRODID:-//dvv-bw.de//dvv.Portalplattform//DE
VERSION:2.0
METHOD:PUBLISH
BEGIN:VEVENT
DTSTART:20260903T140000Z
DTEND:20260903T160000Z
DTSTAMP:20260421T173437Z
UID:29301505-29299618-1788386400000
SUMMARY:Kindermitmachkonzert mit herrH
LOCATION:Burggraben Neckarelz, Tempelhaus, Johannitergasse 2, 74821 Mosbach
DESCRIPTION:Bereits 2024 war herrH zu Gast beim Mosbacher Sommer und bereitete Groß und Klein ein unvergessliches Konzerterlebnis. Deshalb freuen wir uns umso mehr auf die Rückkehr von „Emma\, die Ente“ und „Raffi\, die Giraffe“.
CLASS:PUBLIC
X-ALT-DESC;FMTTYPE=text/html:Bereits 2024 war herrH zu Gast beim Mosbacher Sommer und bereitete Groß und Klein ein unvergessliches Konzerterlebnis. Deshalb freuen wir uns umso mehr auf die Rückkehr von &bdquo;Emma\, die Ente&ldquo; und &bdquo;Raffi\, die Giraffe&ldquo;.
END:VEVENT
END:VCALENDAR
