BEGIN:VCALENDAR
PRODID:-//dvv-bw.de//dvv.Portalplattform//DE
VERSION:2.0
METHOD:PUBLISH
BEGIN:VEVENT
DTSTART:20260725T130000Z
DTEND:20260725T130000Z
DTSTAMP:20260424T191216Z
UID:52715251-52715151-1784930400000
SUMMARY:Dorffest in Nüstenbach
LOCATION:Sporthalle Nüstenbach -TTV-\, Brunnenwiesenweg\,\, Mosbach 74821
DESCRIPTION:Dorffest mit Kaffee und Kuchen und Deftigem vom Grill, auch vegetarisch
 
freier Eintritt
CLASS:PUBLIC
X-ALT-DESC;FMTTYPE=text/html:Dorffest mit Kaffee und Kuchen und Deftigem vom Grill, auch vegetarisch<br> <br>freier Eintritt
END:VEVENT
END:VCALENDAR
