BEGIN:VCALENDAR
PRODID:-//dvv-bw.de//dvv.Portalplattform//DE
VERSION:2.0
METHOD:PUBLISH
BEGIN:VEVENT
DTSTART:20260326T183000Z
DTEND:20260326T203000Z
DTSTAMP:20260326T183000Z
UID:30793119-30790089-1774479600000
SUMMARY:Bezirks-Bläserprobe
LOCATION:Martin-Luther-Haus Mosbach
DESCRIPTION:Offenes Angebot für alle BläserInnen im Kirchenbezirk und darüber hinaus
CLASS:PUBLIC
X-ALT-DESC;FMTTYPE=text/html:Offenes Angebot für alle BläserInnen im Kirchenbezirk und darüber hinaus
END:VEVENT
END:VCALENDAR
