BEGIN:VCALENDAR
PRODID:-//dvv-bw.de//dvv.Portalplattform//DE
VERSION:2.0
METHOD:PUBLISH
BEGIN:VEVENT
DTSTART:20260322T100000Z
DTEND:20260322T120000Z
DTSTAMP:20260322T100000Z
UID:15663658-15663558-1774134000000
SUMMARY:Zauberer Maximus
LOCATION:Kultur- und Begegnungszentrum fideljo, Neckarburkener Str. 18, 74821 Mosbach
DESCRIPTION:Zauberer Maximus
CLASS:PUBLIC
X-ALT-DESC;FMTTYPE=text/html:Zauberer Maximus
END:VEVENT
END:VCALENDAR
